BEGIN:VCALENDAR
VERSION:2.0
PRODID:-//ChamberMaster//Event Calendar 2.0//EN
METHOD:PUBLISH
X-PUBLISHED-TTL:P3D
REFRESH-INTERVAL:P3D
CALSCALE:GREGORIAN
BEGIN:VEVENT
DTSTART:20230604T120000Z
DTEND:20230604T170000Z
X-MICROSOFT-CDO-ALLDAYEVENT:FALSE
SUMMARY:34th Annual Abbotsford FFA Alumni June Dairy Breakfast
DESCRIPTION:34th Annual Abbotsford Dairy Breakfast\n\nServing: Pancakes\, Maple Syrup\, Sausages\, Variety of Cheese\, Applesauce\, Cookies\, Juice\, Coffee\, White or Chocolate Milk & Ice Cream
X-ALT-DESC;FMTTYPE=text/html:34th Annual Abbotsford Dairy Breakfast<br />\nServing: Pancakes\, Maple Syrup\, Sausages\, Variety of Cheese\, Applesauce\, Cookies\, Juice\, Coffee\, White or Chocolate Milk &amp\; Ice Cream
LOCATION:Midwest Sidewalls\, LLC 213 Circle Drive Curtiss\, WI 54422 (Take State HWY 29 west 4 miles to exit 127\, 1/8 mile north on Cty Rd E\, 1 block west on Mathis Street\, then 2 blocks south on Circle Drive.)
UID:e.2079.4273
SEQUENCE:3
DTSTAMP:20260424T041909Z
URL:https://business.abbycolbychamber.com/events/details/34th-annual-abbotsford-ffa-alumni-june-dairy-breakfast-4273
END:VEVENT

END:VCALENDAR
