BEGIN:VCALENDAR
VERSION:2.0
PRODID:-//ChamberMaster//Event Calendar 2.0//EN
METHOD:PUBLISH
X-PUBLISHED-TTL:P3D
REFRESH-INTERVAL:P3D
CALSCALE:GREGORIAN
BEGIN:VEVENT
DTSTART:20221204T010000Z
DTEND:20221204T020000Z
X-MICROSOFT-CDO-ALLDAYEVENT:FALSE
SUMMARY:51st Annual Christmas Parade
DESCRIPTION:51st Annual Christmas Parade\n\nAbbotsford Christmas Parade\n\nRaffle tickets will be available for sale. Proceeds fund the parade costumes and floats. \n\nRaffle drawing after the parade.  See this year's new float\n \n\nFor More Information Contact: Kris O'Leary - 715-223-2342\n\nMore to come.\n\nMake Reservations now at one of these Abbotsford Hotels/ Motels:\n\nRodeway Inn  715-223-3337 at 300 Elderberry Rd. Abbotsford\, WI\n\n\n\nAbby Inn  715-223-3332 at 1201 E. Spruce St. Abbotsford\, WI\n\n\n\nHome Motel  715-223-6343 at 412 N. 4th St. Abbotsford\, WI
X-ALT-DESC;FMTTYPE=text/html:<span style="font-size: 24px\;">51st Annual Christmas Parade</span><br />\n<span style="font-size: 16px\;"><span style="font-size:18px\;">Abbotsford Christmas Parade</span><br />\nRaffle tickets will be available for sale. Proceeds fund the parade costumes and floats.&nbsp\;<br />\nRaffle drawing after the parade.&nbsp\; See this year&#39\;s new float</span>\n<p>&nbsp\;</p>\n\n<p><span style="font-size:18px\;">For More Information Contact: Kris O&#39\;Leary - 715-223-2342</span></p>\n\n<p><span style="font-size:18px\;">More to come.</span></p>\n\n<p><span style="font-size:18px\;"><strong>Make Reservations now at one of these Abbotsford Hotels/ Motels:</strong></span><br />\n<b>Rodeway Inn &nbsp\;715-223-3337 at 300 Elderberry Rd. Abbotsford\, WI<br />\n<br />\nAbby Inn &nbsp\;715-223-3332 at 1201 E. Spruce St. Abbotsford\, WI<br />\n<br />\nHome Motel &nbsp\;715-223-6343 at 412 N. 4th St. Abbotsford\, WI</b></p>\n\n<p>&nbsp\;</p>\n
LOCATION:Downtown Abbotsford\, Wisconsin
UID:e.2079.1103
SEQUENCE:3
DTSTAMP:20260420T125201Z
URL:https://business.abbycolbychamber.com/events/details/51st-annual-christmas-parade-1103
END:VEVENT

END:VCALENDAR
