BEGIN:VCALENDAR
VERSION:2.0
PRODID:-//ChamberMaster//Event Calendar 2.0//EN
METHOD:PUBLISH
X-PUBLISHED-TTL:P3D
REFRESH-INTERVAL:P3D
CALSCALE:GREGORIAN
BEGIN:VEVENT
DTSTART:20300805T230000Z
DTEND:20300806T000000Z
X-MICROSOFT-CDO-ALLDAYEVENT:FALSE
SUMMARY:Abbotsford City Council Meeting
DESCRIPTION:Abbotsford City Council Meeting
X-ALT-DESC;FMTTYPE=text/html:Abbotsford City Council Meeting
LOCATION:Abbotsford City Hall
UID:e.2079.4188
SEQUENCE:3
DTSTAMP:20260424T000934Z
URL:https://business.abbycolbychamber.com/events/details/abbotsford-city-council-meeting-08-05-2030-4188
END:VEVENT

END:VCALENDAR
