BEGIN:VCALENDAR
VERSION:2.0
PRODID:-//ChamberMaster//Event Calendar 2.0//EN
METHOD:PUBLISH
X-PUBLISHED-TTL:P3D
REFRESH-INTERVAL:P3D
CALSCALE:GREGORIAN
BEGIN:VEVENT
DTSTART:20220926T233000Z
DTEND:20220927T013000Z
X-MICROSOFT-CDO-ALLDAYEVENT:FALSE
SUMMARY:Abbotsford Lion's Club Membership Meeting
DESCRIPTION:This is the monthly Abby Lion's Membership meeting
X-ALT-DESC;FMTTYPE=text/html:This is the monthly Abby Lion&#39\;s Membership meeting
LOCATION:Abbotsford City Hall 1st Street Abbotsford\, WI 54405
UID:e.2079.324
SEQUENCE:3
DTSTAMP:20260425T125859Z
URL:https://business.abbycolbychamber.com/events/details/abbotsford-lion-s-club-membership-meeting-09-26-2022-324
END:VEVENT

END:VCALENDAR
