BEGIN:VCALENDAR
VERSION:2.0
PRODID:-//ChamberMaster//Event Calendar 2.0//EN
METHOD:PUBLISH
X-PUBLISHED-TTL:P3D
REFRESH-INTERVAL:P3D
CALSCALE:GREGORIAN
BEGIN:VEVENT
DTSTART:20230313T233000Z
DTEND:20230314T003000Z
X-MICROSOFT-CDO-ALLDAYEVENT:FALSE
SUMMARY:Abby Festival Committee Meeting
DESCRIPTION:Abby Festival Committee Meeting
X-ALT-DESC;FMTTYPE=text/html:Abby Festival Committee Meeting
LOCATION:Abbotsford City Hall
UID:e.2079.3862
SEQUENCE:3
DTSTAMP:20260424T093144Z
URL:https://business.abbycolbychamber.com/events/details/abby-festival-committee-meeting-03-20-2023-3862
END:VEVENT

END:VCALENDAR
