BEGIN:VCALENDAR
VERSION:2.0
PRODID:-//ChamberMaster//Event Calendar 2.0//EN
METHOD:PUBLISH
X-PUBLISHED-TTL:P3D
REFRESH-INTERVAL:P3D
CALSCALE:GREGORIAN
BEGIN:VEVENT
DTSTART:20210609T170000Z
DTEND:20210609T180000Z
X-MICROSOFT-CDO-ALLDAYEVENT:FALSE
SUMMARY:AbbyColby Crossings Chamber Monthly Meeting
DESCRIPTION:June Chamber Meeting Lunch sponsored by Nicolet Bank
X-ALT-DESC;FMTTYPE=text/html:June Chamber Meeting Lunch sponsored by Nicolet Bank
LOCATION:In the old Back to Bliss building in Colby.
UID:e.2079.4205
SEQUENCE:3
DTSTAMP:20260421T140819Z
URL:https://business.abbycolbychamber.com/events/details/abbycolby-crossings-chamber-monthly-meeting-4205
END:VEVENT

END:VCALENDAR
