BEGIN:VCALENDAR
VERSION:2.0
PRODID:-//ChamberMaster//Event Calendar 2.0//EN
METHOD:PUBLISH
X-PUBLISHED-TTL:P3D
REFRESH-INTERVAL:P3D
CALSCALE:GREGORIAN
BEGIN:VEVENT
DTSTART:20230104T180000Z
DTEND:20230104T200000Z
X-MICROSOFT-CDO-ALLDAYEVENT:FALSE
SUMMARY:AbbyColby Crossings - Monthly Chamber Meeting
DESCRIPTION:Monthly AbbyColby Crossings Chamber monthly meeting.
X-ALT-DESC;FMTTYPE=text/html:Monthly AbbyColby Crossings Chamber monthly meeting.&nbsp\;<br />\n&nbsp\;
LOCATION:Doctors Care Medical Center 1 Opportunity Drive\, Abbotsford\, WI 54405
UID:e.2079.1331
SEQUENCE:3
DTSTAMP:20260424T123528Z
URL:https://business.abbycolbychamber.com/events/details/abbycolby-crossings-monthly-chamber-meeting-01-04-2023-1331
END:VEVENT

END:VCALENDAR
