BEGIN:VCALENDAR
VERSION:2.0
PRODID:-//ChamberMaster//Event Calendar 2.0//EN
METHOD:PUBLISH
X-PUBLISHED-TTL:P3D
REFRESH-INTERVAL:P3D
CALSCALE:GREGORIAN
BEGIN:VEVENT
DTSTART:20230308T180000Z
DTEND:20230308T200000Z
X-MICROSOFT-CDO-ALLDAYEVENT:FALSE
SUMMARY:AbbyColby Crossings - Monthly Chamber Meeting
DESCRIPTION:Monthly AbbyColby Crossings Chamber monthly meeting. \n\nSponsor by Thrivent Financial.
X-ALT-DESC;FMTTYPE=text/html:Monthly AbbyColby Crossings Chamber monthly meeting.&nbsp\;<br />\nSponsor by Thrivent Financial.
LOCATION:Colby City Hall
UID:e.2079.1333
SEQUENCE:3
DTSTAMP:20260424T093027Z
URL:https://business.abbycolbychamber.com/events/details/abbycolby-crossings-monthly-chamber-meeting-03-01-2023-1333
END:VEVENT

END:VCALENDAR
