BEGIN:VCALENDAR
VERSION:2.0
PRODID:-//ChamberMaster//Event Calendar 2.0//EN
METHOD:PUBLISH
X-PUBLISHED-TTL:P3D
REFRESH-INTERVAL:P3D
CALSCALE:GREGORIAN
BEGIN:VEVENT
DTSTART:20230815T170000Z
DTEND:20230815T190000Z
X-MICROSOFT-CDO-ALLDAYEVENT:FALSE
SUMMARY:AbbyColby Crossings - Monthly Chamber Meeting
DESCRIPTION:Monthly AbbyColby Crossings Chamber monthly meeting. Meet the new teachers from both Abby and Colby School District.\n\nSponsor by Colby School District
X-ALT-DESC;FMTTYPE=text/html:Monthly AbbyColby Crossings Chamber monthly meeting. Meet the new teachers from both Abby and Colby School District.<br />\nSponsor by Colby School District
LOCATION:Colby School District
UID:e.2079.1338
SEQUENCE:3
DTSTAMP:20260424T021646Z
URL:https://business.abbycolbychamber.com/events/details/abbycolby-crossings-monthly-chamber-meeting-08-02-2023-1338
END:VEVENT

END:VCALENDAR
