BEGIN:VCALENDAR
VERSION:2.0
PRODID:-//ChamberMaster//Event Calendar 2.0//EN
METHOD:PUBLISH
X-PUBLISHED-TTL:P3D
REFRESH-INTERVAL:P3D
CALSCALE:GREGORIAN
BEGIN:VEVENT
DTSTART:20220907T170000Z
DTEND:20220907T180000Z
X-MICROSOFT-CDO-ALLDAYEVENT:FALSE
SUMMARY:AbbyColby Crossings - Monthly Chamber Meeting
DESCRIPTION:Monthly AbbyColby Crossings Chamber monthly meeting. Lunch sponsored by Royal Credit Union and Taylor Credit Union
X-ALT-DESC;FMTTYPE=text/html:Monthly AbbyColby Crossings Chamber monthly meeting. Lunch sponsored by Royal Credit Union and Taylor Credit Union<br />\n&nbsp\;
LOCATION:Colby City Hall
UID:e.2079.1327
SEQUENCE:3
DTSTAMP:20260425T125940Z
URL:https://business.abbycolbychamber.com/events/details/abbycolby-crossings-monthly-chamber-meeting-09-07-2022-1327
END:VEVENT

END:VCALENDAR
