BEGIN:VCALENDAR
VERSION:2.0
PRODID:-//ChamberMaster//Event Calendar 2.0//EN
METHOD:PUBLISH
X-PUBLISHED-TTL:P3D
REFRESH-INTERVAL:P3D
CALSCALE:GREGORIAN
BEGIN:VEVENT
DTSTART:20221109T180000Z
DTEND:20221109T200000Z
X-MICROSOFT-CDO-ALLDAYEVENT:FALSE
SUMMARY:AbbyColby Crossings - Monthly Chamber Meeting
DESCRIPTION:Monthly AbbyColby Crossings Chamber monthly meeting. Lunch sponsored by AbbyBank
X-ALT-DESC;FMTTYPE=text/html:Monthly AbbyColby Crossings Chamber monthly meeting. Lunch sponsored by AbbyBank<br />\n&nbsp\;
LOCATION:Abby City hall
UID:e.2079.1329
SEQUENCE:3
DTSTAMP:20260424T153421Z
URL:https://business.abbycolbychamber.com/events/details/abbycolby-crossings-monthly-chamber-meeting-11-02-2022-1329
END:VEVENT

END:VCALENDAR
