BEGIN:VCALENDAR
VERSION:2.0
PRODID:-//ChamberMaster//Event Calendar 2.0//EN
METHOD:PUBLISH
X-PUBLISHED-TTL:P3D
REFRESH-INTERVAL:P3D
CALSCALE:GREGORIAN
BEGIN:VEVENT
DTSTART:20231206T180000Z
DTEND:20231206T200000Z
X-MICROSOFT-CDO-ALLDAYEVENT:FALSE
SUMMARY:AbbyColby Crossings - Monthly Chamber Meeting
DESCRIPTION:Monthly AbbyColby Crossings Chamber monthly meeting. \n\nSponsor by Maurina-Schilling Funeral Home
X-ALT-DESC;FMTTYPE=text/html:Monthly AbbyColby Crossings Chamber monthly meeting.&nbsp\;<br />\nSponsor by Maurina-Schilling Funeral Home
LOCATION:Maurina-Schilling Funeral Home 203 N 4th St. Abbotsford\, WI 54405
UID:e.2079.1342
SEQUENCE:3
DTSTAMP:20260423T233819Z
URL:https://business.abbycolbychamber.com/events/details/abbycolby-crossings-monthly-chamber-meeting-12-06-2023-1342
END:VEVENT

END:VCALENDAR
