BEGIN:VCALENDAR
VERSION:2.0
PRODID:-//ChamberMaster//Event Calendar 2.0//EN
METHOD:PUBLISH
X-PUBLISHED-TTL:P3D
REFRESH-INTERVAL:P3D
CALSCALE:GREGORIAN
BEGIN:VEVENT
DTSTART:20221207T180000Z
DTEND:20221207T200000Z
X-MICROSOFT-CDO-ALLDAYEVENT:FALSE
SUMMARY:AbbyColby Crossings - Monthly Chamber Meeting
DESCRIPTION:Monthly AbbyColby Crossings Chamber monthly meeting. Lunch sponsored by HealthView Eye Center
X-ALT-DESC;FMTTYPE=text/html:Monthly AbbyColby Crossings Chamber monthly meeting. Lunch sponsored by HealthView Eye Center<br />\n&nbsp\;
LOCATION:Colby City Hall
UID:e.2079.1330
SEQUENCE:3
DTSTAMP:20260424T135720Z
URL:https://business.abbycolbychamber.com/events/details/abbycolby-crossings-monthly-chamber-meeting-12-07-2022-1330
END:VEVENT

END:VCALENDAR
