BEGIN:VCALENDAR
VERSION:2.0
PRODID:-//ChamberMaster//Event Calendar 2.0//EN
METHOD:PUBLISH
X-PUBLISHED-TTL:P3D
REFRESH-INTERVAL:P3D
CALSCALE:GREGORIAN
BEGIN:VEVENT
DTSTART:20230712T170000Z
DTEND:20230712T180000Z
X-MICROSOFT-CDO-ALLDAYEVENT:FALSE
SUMMARY:AbbyColby Crossings - Monthly Chamber Meeting
DESCRIPTION:May monthly AbbyColby Crossings Chamber monthly meeting. \n\n\n\nOur July 2023 lunch sponsors are RWE Clean Energy.    Please call the ACC chamber office at 715-223-8509 by Tuesday\, July 11th  to reserve lunch.
X-ALT-DESC;FMTTYPE=text/html:May monthly AbbyColby Crossings Chamber monthly meeting.&nbsp\;<br />\n<br />\nOur July 2023 lunch sponsors are RWE Clean Energy. &nbsp\;&#8203\;&nbsp\;Please call the ACC chamber office at 715-223-8509 by Tuesday\, July 11th &nbsp\;to reserve lunch. &nbsp\;
LOCATION:Abbotsford City Hall 203 N. First Street Abbotsford\, WI 54405
UID:e.2079.4275
SEQUENCE:3
DTSTAMP:20260424T032305Z
URL:https://business.abbycolbychamber.com/events/details/abbycolby-crossings-monthly-chamber-meeting-4275
END:VEVENT

END:VCALENDAR
