BEGIN:VCALENDAR
VERSION:2.0
PRODID:-//ChamberMaster//Event Calendar 2.0//EN
METHOD:PUBLISH
X-PUBLISHED-TTL:P3D
REFRESH-INTERVAL:P3D
CALSCALE:GREGORIAN
BEGIN:VEVENT
DTSTART:20220824T150000Z
DTEND:20220824T160000Z
X-MICROSOFT-CDO-ALLDAYEVENT:FALSE
SUMMARY:Bintopia Ribbon Cutting and Plaque Presentation
DESCRIPTION:Bintopia Ribbon Cutting and Plaque Presentation
X-ALT-DESC;FMTTYPE=text/html:Bintopia Ribbon Cutting and Plaque Presentation
LOCATION:Bintopia at East Town Mall 1011 East Spruce St Abbotsford\, WI 54405
UID:e.2079.4241
SEQUENCE:3
DTSTAMP:20260424T192234Z
URL:https://business.abbycolbychamber.com/events/details/bintopia-ribbon-cutting-and-plaque-presentation-4241
END:VEVENT

END:VCALENDAR
