BEGIN:VCALENDAR
VERSION:2.0
PRODID:-//ChamberMaster//Event Calendar 2.0//EN
METHOD:PUBLISH
X-PUBLISHED-TTL:P3D
REFRESH-INTERVAL:P3D
CALSCALE:GREGORIAN
BEGIN:VEVENT
DTSTART;VALUE=DATE:20230415
DTEND;VALUE=DATE:20231101
TRANSP:TRANSPARENT
X-MICROSOFT-CDO-ALLDAYEVENT:TRUE
SUMMARY:Bloomin' Greenhouse Tour
DESCRIPTION:Thousands of the most beautiful flowers and plants hand potted\, nurtured and carefully combined to create more beauty for your home and business than you could imagine! It is all here in the Garden Center Headquarters - Clark County\, WI!  Get out and enjoy this breathtaking annual Bloomin' Greenhouse Tour beginning mid-April through Fall and into the holiday season\, hosted by Clark County Economic Development Corporation & Tourism Bureau. This exciting self-guided tour directs visitors to Clark County's many exceptional and gorgeous greenhouses & garden centers. Take an adventure into the countryside's of our county and shop in our newly expanded greenhouses to get your piece of beauty and aroma. There is something for everyone - annuals\, perennials\, vegetables\, herbs\, grasses\, trees\, shrubs\, hostas\, daylilies\, mums\, fairy garden supplies\, pumpkins\, corn mazes\, garden art\, home d cor\, and so much more! Spring comes to life in Clark County WI   do not miss it!   For a brochure call: 715-255-9100\, info@clarkcountyedc.org or www.clarkcountywi.org.
X-ALT-DESC;FMTTYPE=text/html:Thousands of the most beautiful flowers and plants hand potted\, nurtured and carefully combined to create more beauty for your home and business than you could imagine! It is all here in the Garden Center Headquarters - Clark County\, WI!&nbsp\; Get out and enjoy this breathtaking annual Bloomin&rsquo\; Greenhouse Tour beginning mid-April through Fall and into the holiday season\, hosted by Clark County Economic Development Corporation &amp\; Tourism Bureau. This exciting self-guided tour directs visitors to Clark County&rsquo\;s many exceptional and gorgeous greenhouses &amp\; garden centers. Take an adventure into the countryside&rsquo\;s of our county and shop in our newly expanded greenhouses to get your piece of beauty and aroma. There is something for everyone - annuals\, perennials\, vegetables\, herbs\, grasses\, trees\, shrubs\, hostas\, daylilies\, mums\, fairy garden supplies\, pumpkins\, corn mazes\, garden art\, home d&eacute\;cor\, and so much more! Spring comes to life in Clark County WI &ndash\; do not miss it!&nbsp\; &nbsp\;For a brochure call: 715-255-9100\, <a href="mailto:info@clarkcountyedc.org" target="_blank"><span style="color:#0563C1\;">info@clarkcountyedc.org</span></a> or <a href="http://www.clarkcountywi.org" target="_blank"><span style="color:#0563C1\;">www.clarkcountywi.org</span></a>.
LOCATION:All over Clark County\, WI
UID:e.2079.4264
SEQUENCE:3
DTSTAMP:20260423T233432Z
URL:https://business.abbycolbychamber.com/events/details/bloomin-greenhouse-tour-4264
END:VEVENT

END:VCALENDAR
