BEGIN:VCALENDAR
VERSION:2.0
PRODID:-//ChamberMaster//Event Calendar 2.0//EN
METHOD:PUBLISH
X-PUBLISHED-TTL:P3D
REFRESH-INTERVAL:P3D
CALSCALE:GREGORIAN
BEGIN:VEVENT
DTSTART;VALUE=DATE:20240415
DTEND;VALUE=DATE:20240416
TRANSP:TRANSPARENT
X-MICROSOFT-CDO-ALLDAYEVENT:TRUE
SUMMARY:Clark County "Bloomin' Greenhouse Tour - 2024
DESCRIPTION:Come enjoy thousands of the most beautiful flowers and plants hand potted\, nurtured and carefully combined to create more beauty for your home and business than you could imagine! It is all here in the Garden Center Headquarters - Clark County\, WI! Get out and enjoy this breathtaking annual Bloomin' Greenhouse Tour beginning mid-April through Fall and into the holiday season\, hosted by Clark County Economic Development Corporation & Tourism Bureau. This exciting self-guided tour directs visitors to Clark County's many exceptional and gorgeous greenhouses & garden centers.\n\n\n\nTake an adventure into the countryside of our county and shop in our newly expanded greenhouses to get your piece of beauty and aroma. There is something for everyone - annuals\, perennials\, vegetables\, herbs\, grasses\, trees\, shrubs\, hostas\, daylilies\, mums\, fairy garden supplies\, pumpkins\, corn mazes\, garden art\, home d cor\, and so much more! Blooms come to life in Clark County WI   do not miss it!\n\n\n\nFor a brochure call: 715-255-9100\, info@clarkcountyedc.org or www.clarkcountywi.org
X-ALT-DESC;FMTTYPE=text/html:<span style="color:#050505"><span style="font-family:inherit\,serif"><span style="font-size:11.5pt">Come enjoy thousands of the most beautiful flowers and plants hand potted\, nurtured and carefully combined to create more beauty for your home and business than you could imagine! It is all here in the Garden Center Headquarters - Clark County\, WI! Get out and enjoy this breathtaking annual Bloomin&rsquo\; Greenhouse Tour beginning mid-April through Fall and into the holiday season\, hosted by Clark County Economic Development Corporation &amp\; Tourism Bureau. This exciting self-guided tour directs visitors to Clark County&rsquo\;s many exceptional and gorgeous greenhouses &amp\; garden centers.</span></span></span><br />\n<br />\n<span style="color:#050505"><span style="font-family:inherit\,serif"><span style="font-size:11.5pt">Take an adventure into the countryside of our county and shop in our newly expanded greenhouses to get your piece of beauty and aroma. There is something for everyone - annuals\, perennials\, vegetables\, herbs\, grasses\, trees\, shrubs\, hostas\, daylilies\, mums\, fairy garden supplies\, pumpkins\, corn mazes\, garden art\, home d&eacute\;cor\, and so much more! Blooms come to life in Clark County WI &ndash\; do not miss it!</span></span></span><br />\n<br />\n<span style="color:#050505"><span style="font-family:inherit\,serif"><span style="font-size:11.5pt">For a brochure call: 715-255-9100\, <a href="mailto:info@clarkcountyedc.org" target="_blank">info@clarkcountyedc.org</a> or <a href="http://www.clarkcountywi.org/?fbclid=IwAR1Kw4MkwrcyqGpGlMlpqPc6Ma1Qvrcti3QmtQsCuLAhnVWQVU8-zkGSAMU" style="text-decoration-line:none\;outline:none\;text-align:inherit\;box-sizing:border-box\;" target="_blank">www.clarkcountywi.org</a></span></span></span>
LOCATION:
UID:e.2079.4321
SEQUENCE:3
DTSTAMP:20260424T042055Z
URL:https://business.abbycolbychamber.com/events/details/clark-county-bloomin-greenhouse-tour-2024-4321
END:VEVENT

END:VCALENDAR
