BEGIN:VCALENDAR
VERSION:2.0
PRODID:-//ChamberMaster//Event Calendar 2.0//EN
METHOD:PUBLISH
X-PUBLISHED-TTL:P3D
REFRESH-INTERVAL:P3D
CALSCALE:GREGORIAN
BEGIN:VEVENT
DTSTART:20240507T233000Z
DTEND:20240508T003000Z
X-MICROSOFT-CDO-ALLDAYEVENT:FALSE
SUMMARY:Colby City Council Meeting
DESCRIPTION:Colby City Monthly Council Meeting
X-ALT-DESC;FMTTYPE=text/html:Colby City Monthly Council Meeting
LOCATION:Colby City Hall
UID:e.2079.2152
SEQUENCE:3
DTSTAMP:20260424T054041Z
URL:https://business.abbycolbychamber.com/events/details/colby-city-council-meeting-05-07-2024-2152
END:VEVENT

END:VCALENDAR
