BEGIN:VCALENDAR
VERSION:2.0
PRODID:-//ChamberMaster//Event Calendar 2.0//EN
METHOD:PUBLISH
X-PUBLISHED-TTL:P3D
REFRESH-INTERVAL:P3D
CALSCALE:GREGORIAN
BEGIN:VEVENT
DTSTART:20260901T233000Z
DTEND:20260902T003000Z
X-MICROSOFT-CDO-ALLDAYEVENT:FALSE
SUMMARY:Colby City Council Meeting
DESCRIPTION:Colby City Monthly Council Meeting
X-ALT-DESC;FMTTYPE=text/html:Colby City Monthly Council Meeting
LOCATION:Colby City Hall
UID:e.2079.2180
SEQUENCE:3
DTSTAMP:20260419T191946Z
URL:https://business.abbycolbychamber.com/events/details/colby-city-council-meeting-09-01-2026-2180
END:VEVENT

END:VCALENDAR
