BEGIN:VCALENDAR
VERSION:2.0
PRODID:-//ChamberMaster//Event Calendar 2.0//EN
METHOD:PUBLISH
X-PUBLISHED-TTL:P3D
REFRESH-INTERVAL:P3D
CALSCALE:GREGORIAN
BEGIN:VEVENT
DTSTART:20230418T233000Z
DTEND:20230419T010000Z
X-MICROSOFT-CDO-ALLDAYEVENT:FALSE
SUMMARY:Colby Lion's Membership Meeting
DESCRIPTION:This is the second of two monthly Colby Lion's Club meetings. If you are interested in joining the Colby Lion's Club\, please join us for one of our meetings.\n\n\n\nThis meeting we will be electing officers for the Lion year - 2015-2016.
X-ALT-DESC;FMTTYPE=text/html:This is the second of two monthly Colby Lion&#39\;s Club meetings. If you are interested in joining the Colby Lion&#39\;s Club\, please join us for one of our meetings.<br />\n<br />\nThis meeting we will be electing officers for the Lion year - 2015-2016.
LOCATION:Colby Lion's Shelter 100 W\, Adams Street Colby\, WI 54421
UID:e.2079.1010
SEQUENCE:3
DTSTAMP:20260424T065212Z
URL:https://business.abbycolbychamber.com/events/details/colby-lion-s-membership-meeting-04-18-2023-1010
END:VEVENT

END:VCALENDAR
