BEGIN:VCALENDAR
VERSION:2.0
PRODID:-//ChamberMaster//Event Calendar 2.0//EN
METHOD:PUBLISH
X-PUBLISHED-TTL:P3D
REFRESH-INTERVAL:P3D
CALSCALE:GREGORIAN
BEGIN:VEVENT
DTSTART:20230314T233000Z
DTEND:20230315T010000Z
X-MICROSOFT-CDO-ALLDAYEVENT:FALSE
SUMMARY:Colby Lions Bingo Night
DESCRIPTION:Bingo Night with refreshments and food. All proceeds support community projects.
X-ALT-DESC;FMTTYPE=text/html:Bingo Night with refreshments and food. All proceeds support community projects.&nbsp\;&nbsp\;&nbsp\;&nbsp\;
LOCATION:Colby Lions Shelters
UID:e.2079.4270
SEQUENCE:3
DTSTAMP:20260424T092338Z
URL:https://business.abbycolbychamber.com/events/details/colby-lions-bingo-night-4270
END:VEVENT

END:VCALENDAR
