BEGIN:VCALENDAR
VERSION:2.0
PRODID:-//ChamberMaster//Event Calendar 2.0//EN
METHOD:PUBLISH
X-PUBLISHED-TTL:P3D
REFRESH-INTERVAL:P3D
CALSCALE:GREGORIAN
BEGIN:VEVENT
DTSTART:20230426T203000Z
DTEND:20230427T000000Z
X-MICROSOFT-CDO-ALLDAYEVENT:FALSE
SUMMARY:Colby Lions' Smelt Fry
DESCRIPTION:The Colby Lions Club is sponsoring a Smelt Fry on Wednesday\, April 26\, 2023\, starting at 3:30 pm and serving until 7:00 pm at the Colby Lions Pavilion in Colby. The Lions will be serving smelt\, potato salad\, coleslaw\, butter bread\, and dessert. There will be both dine-in and drive-thru.
X-ALT-DESC;FMTTYPE=text/html:The Colby Lions Club is sponsoring a Smelt Fry on Wednesday\, April 26\, 2023\, starting at 3:30 pm and serving until 7:00 pm at the Colby Lions Pavilion in Colby. The Lions will be serving smelt\, potato salad\, coleslaw\, butter bread\, and dessert. There will be both dine-in and drive-thru.&nbsp\;
LOCATION:701 W Dolf St Colby WI 54421
UID:e.2079.4272
SEQUENCE:3
DTSTAMP:20260424T065040Z
URL:https://business.abbycolbychamber.com/events/details/colby-lions-smelt-fry-4272
END:VEVENT

END:VCALENDAR
