BEGIN:VCALENDAR
VERSION:2.0
PRODID:-//ChamberMaster//Event Calendar 2.0//EN
METHOD:PUBLISH
X-PUBLISHED-TTL:P3D
REFRESH-INTERVAL:P3D
CALSCALE:GREGORIAN
BEGIN:VEVENT
DTSTART:20221103T210000Z
DTEND:20221104T000000Z
X-MICROSOFT-CDO-ALLDAYEVENT:FALSE
SUMMARY:Costume Try-On
DESCRIPTION:It's Christmas Parade time again. Christmas Parade is Saturday\, Dec 3 at 7:30pm. We need Families\, Kids & Adults! Call to sign up for a costume! We also need many people to push and drive floats.\n\nContact Kris O'Leary 715-223-2342 days or 715-360-0901 evenings
X-ALT-DESC;FMTTYPE=text/html:It&#39\;s Christmas Parade time again. Christmas Parade is Saturday\, Dec 3 at 7:30pm. We need Families\, Kids &amp\; Adults! Call to sign up for a costume! We also need many people to push and drive floats.<br />\nContact Kris O&#39\;Leary 715-223-2342 days or 715-360-0901 evenings
LOCATION:At the AbbyColby Chamber Office 100 W. Spruce Street Abbotsford\, Wi 54405
UID:e.2079.4250
SEQUENCE:3
DTSTAMP:20260424T152551Z
URL:https://business.abbycolbychamber.com/events/details/costume-try-on-11-03-2022-4250
END:VEVENT

END:VCALENDAR
