BEGIN:VCALENDAR
VERSION:2.0
PRODID:-//ChamberMaster//Event Calendar 2.0//EN
METHOD:PUBLISH
X-PUBLISHED-TTL:P3D
REFRESH-INTERVAL:P3D
CALSCALE:GREGORIAN
BEGIN:VEVENT
DTSTART:20220502T233000Z
DTEND:20220503T003000Z
X-MICROSOFT-CDO-ALLDAYEVENT:FALSE
SUMMARY:Curtiss Lion's Club Meeting
DESCRIPTION:Curtiss Lion's Club Meeting
X-ALT-DESC;FMTTYPE=text/html:Curtiss Lion&#39\;s Club Meeting
LOCATION:Curtiss Municipal Hall
UID:e.2079.2404
SEQUENCE:3
DTSTAMP:20260424T231511Z
URL:https://business.abbycolbychamber.com/events/details/curtiss-lion-s-club-meeting-05-02-2022-2404
END:VEVENT

END:VCALENDAR
