BEGIN:VCALENDAR
VERSION:2.0
PRODID:-//ChamberMaster//Event Calendar 2.0//EN
METHOD:PUBLISH
X-PUBLISHED-TTL:P3D
REFRESH-INTERVAL:P3D
CALSCALE:GREGORIAN
BEGIN:VEVENT
DTSTART:20220801T233000Z
DTEND:20220802T003000Z
X-MICROSOFT-CDO-ALLDAYEVENT:FALSE
SUMMARY:Curtiss Lion's Club Meeting
DESCRIPTION:Curtiss Lion's Club Meeting
X-ALT-DESC;FMTTYPE=text/html:Curtiss Lion&#39\;s Club Meeting
LOCATION:Curtiss Municipal Hall
UID:e.2079.2407
SEQUENCE:3
DTSTAMP:20260425T142720Z
URL:https://business.abbycolbychamber.com/events/details/curtiss-lion-s-club-meeting-08-01-2022-2407
END:VEVENT

END:VCALENDAR
