BEGIN:VCALENDAR
VERSION:2.0
PRODID:-//ChamberMaster//Event Calendar 2.0//EN
METHOD:PUBLISH
X-PUBLISHED-TTL:P3D
REFRESH-INTERVAL:P3D
CALSCALE:GREGORIAN
BEGIN:VEVENT
DTSTART:20260602T230000Z
DTEND:20260603T000000Z
X-MICROSOFT-CDO-ALLDAYEVENT:FALSE
SUMMARY:Curtiss Village Council Meeting
DESCRIPTION:Curtiss Village Council monthly meeting
X-ALT-DESC;FMTTYPE=text/html:Curtiss Village Council monthly meeting
LOCATION:Curtiss Village Hall
UID:e.2079.2310
SEQUENCE:3
DTSTAMP:20260419T231629Z
URL:https://business.abbycolbychamber.com/events/details/curtiss-village-council-meeting-06-02-2026-2310
END:VEVENT

END:VCALENDAR
