BEGIN:VCALENDAR
VERSION:2.0
PRODID:-//ChamberMaster//Event Calendar 2.0//EN
METHOD:PUBLISH
X-PUBLISHED-TTL:P3D
REFRESH-INTERVAL:P3D
CALSCALE:GREGORIAN
BEGIN:VEVENT
DTSTART:20230710T230000Z
DTEND:20230711T000000Z
X-MICROSOFT-CDO-ALLDAYEVENT:FALSE
SUMMARY:Expansion and Ribbon Cutting- Colonial Center
DESCRIPTION:Celebrating the new expansion of Colonial Health & Rehabilitation of Colby
X-ALT-DESC;FMTTYPE=text/html:Celebrating the new expansion of Colonial Health &amp\; Rehabilitation of Colby
LOCATION:702 W Dolf St. Colby\, WI 54421
UID:e.2079.4306
SEQUENCE:3
DTSTAMP:20260424T031651Z
URL:https://business.abbycolbychamber.com/events/details/expansion-and-ribbon-cutting-colonial-center-4306
END:VEVENT

END:VCALENDAR
