BEGIN:VCALENDAR
VERSION:2.0
PRODID:-//ChamberMaster//Event Calendar 2.0//EN
METHOD:PUBLISH
X-PUBLISHED-TTL:P3D
REFRESH-INTERVAL:P3D
CALSCALE:GREGORIAN
BEGIN:VEVENT
DTSTART:20230929T190000Z
DTEND:20230929T230000Z
X-MICROSOFT-CDO-ALLDAYEVENT:FALSE
SUMMARY:Farmers Market and More
DESCRIPTION:Farmers Market and More.\n\nBake goods\, home scent\, eggs\, meat\, body care and more
X-ALT-DESC;FMTTYPE=text/html:Farmers Market and More.<br>\nBake goods\, home scent\, eggs\, meat\, body care and more
LOCATION:Dehne Street Plaza Colby WI 54421
UID:e.2079.4291
SEQUENCE:3
DTSTAMP:20260424T005623Z
URL:https://business.abbycolbychamber.com/events/details/farmers-market-and-more-09-29-2023-4291
END:VEVENT

END:VCALENDAR
