BEGIN:VCALENDAR
VERSION:2.0
PRODID:-//ChamberMaster//Event Calendar 2.0//EN
METHOD:PUBLISH
X-PUBLISHED-TTL:P3D
REFRESH-INTERVAL:P3D
CALSCALE:GREGORIAN
BEGIN:VEVENT
DTSTART;VALUE=DATE:20230811
DTEND;VALUE=DATE:20230814
TRANSP:TRANSPARENT
X-MICROSOFT-CDO-ALLDAYEVENT:TRUE
SUMMARY:First City Days - 2023
DESCRIPTION:18th Annual First City Days\n\n \n\n\nFriday\, August 11th\n\n        Antique Tractor Pull - on blacktop! \n\nRegistration Starts at 4:00 pm\n\nLate Fee of $10.00 \n\nPulls at 6:00 pm\n\nFor more information call:\n\nKevin Johnson (715) 613-4196\n\nEd Kulas (715) 507-0116\n\nDean Wiese (715) 721-6881\n\nMUSIC at Beer Tent Friday Night-- Strat Cats from 6:00 pm to 10:00 pm\n\nFood and Craft Vendors all Weekend!\n\n                         Saturday\, August 12th\n\n7:00 am   10:30 am   Breakfast in the Park\n\n\n\nVintage Snowmobile Show & Snowmobile Swap Meet\n\nRegistration Starts 8:00 am\, Ends 1:00 pm\n\nVoting ends at 2:00 pm\n\nTrophies Awarded 3:00 pm Participant Judging\n\nOriginal   1st & 2nd Restored  \n\n1st & 2nd Custom & Cutter  \n\n1st Best of Show and many more classes\n\nCost: $5.00 per entry or $20.00   as many as you want\n\n$5.00 per Swap\n\nFor more information call:\n\nKevin (715) 650-1755 days or (715) 223-2755 evenings\n\n\n\nPetting Zoo 12-4 pm\n\n\n\nLawn Tractor/ATV Pulls\n\nRegistration starts at noon.\n\nPulls at 1:00pm\n\nFor information contact:\n\nShawn 715 223 7807\n\nBrandi 715 721 6024\n\n\n\n Car Cruise \n\nRegistration from 5:00 pm to 6:00 pm\n\nCruise starts at 6:00 pm \n\nDon't need a show car   Everyone welcome!\n\nRegistration Fee: A Non-Parish able food product for local food pantry.\n\nFor more information call: Brenda 715 613 6094\n\nSaturday music:\n\nStarting after car cruise\, the music will be from 6 pm to 10:00 pm Smoke Wagon\n\n\n\nSunday\, August 13th\n\n\n\nCar\, Truck\, Motorcycle & Farm Tractor Show\, and DJ Music.\n\nRegistration starts 8:00 am\, Ends 1:00 pm\n\nVoting Ends 2:00 pm\n\nTrophies Awarded 3:00 pm\n\nFees: Show Cars $10.00 each with Goodie Bags & Dash Plaques and Door Prizes\n\n2 Trophies per Class   1st & 2nd Participant Judging\n\nBest of Show\, Best GM\, Best Ford\, Best Mopar\, Longest Distance\, Youngest Participant\, Oldest Participant\, Best Import\, Farm Tractor Class\, Club Participation Trophy\, Dean's Choice Trophy (Must be 16 with a valid Drivers License)\n\nFor more information call:\n\nDean Wiese (715) 721-6881\n\nBrenda Wiese   (715) 613-6094\n\n7:00 am   10:30 am   Breakfast in the Park\n\n9:00 am   Sunday Morning Church Service in the Park\n\n(by The Hope Center)\n\n12:00 pm -- 4:00 pm -- Petting Zoo\n\nAll day Music-- Rowdy Boys DJ\n\n \n\n\n\nWatch for changes!\n\nBeer Stand\, Food and Refreshments\, Kids Games and Crafters\, Vendors All Weekend long!
X-ALT-DESC;FMTTYPE=text/html:<span style="font-size:18px\;"><strong>18th&nbsp\;Annual First City Days</strong></span><br />\n&nbsp\;\n<div id="magazine-columns">\n<div class="column c2">\n<p><strong>Friday\, August 11th</strong></p>\n\n<p><strong>&nbsp\; &nbsp\; &nbsp\; &nbsp\; Antique&nbsp\;Tractor Pull </strong>- <em>on blacktop!</em><strong>&nbsp\;</strong></p>\n\n<p>Registration Starts at 4:00 pm<br />\nLate Fee of $10.00&nbsp\;<br />\nPulls at 6:00 pm<br />\nFor more information call:<br />\nKevin Johnson (715) 613-4196<br />\nEd Kulas (715) 507-0116<br />\nDean Wiese (715) 721-6881</p>\n\n<p>MUSIC at Beer Tent Friday Night--<b>&nbsp\;Strat Cats</b>&nbsp\;from 6:00 pm to 10:00 pm<br />\n<strong>Food and Craft Vendors all Weekend!</strong></p>\n\n<p><strong>&nbsp\; &nbsp\; &nbsp\; &nbsp\; &nbsp\; &nbsp\; &nbsp\; &nbsp\; &nbsp\; &nbsp\; &nbsp\; &nbsp\; &nbsp\;Saturday\, August 12th</strong></p>\n\n<p><strong>7:00 am &ndash\; 10:30 am &ndash\; Breakfast in the Park</strong><br />\n<br />\n<strong>Vintage Snowmobile Show &amp\; Snowmobile Swap Meet</strong></p>\n\n<p>Registration Starts 8:00 am\, Ends 1:00 pm<br />\nVoting ends at 2:00 pm<br />\nTrophies Awarded 3:00 pm Participant Judging<br />\nOriginal &ndash\; 1st &amp\; 2nd Restored &ndash\;<br />\n1st &amp\; 2nd Custom &amp\; Cutter &ndash\;<br />\n1st Best of Show and many more classes<br />\nCost: $5.00 per entry or $20.00 &ndash\; as many as you want<br />\n$5.00 per Swap</p>\n\n<p>For more information call:<br />\nKevin (715) 650-1755&nbsp\;days or (715) 223-2755 evenings<br />\n<br />\n<strong>Petting Zoo</strong> 12-4 pm<br />\n<br />\n<strong>Lawn Tractor/ATV Pulls</strong><br />\nRegistration starts at noon.<br />\nPulls at 1:00pm<br />\nFor information contact:<br />\nShawn 715 223 7807<br />\nBrandi 715 721 6024<br />\n<br />\n&#8203\;<strong>Car</strong><strong> Cruise&nbsp\;</strong></p>\n\n<p>Registration from 5:00 pm to 6:00 pm<br />\nCruise starts at 6:00 pm&nbsp\;<br />\nDon&rsquo\;t need a show car &ndash\; <strong>Everyone</strong> welcome!<br />\nRegistration Fee: A Non-Parish able food product for local food pantry.<br />\nFor more information call: Brenda 715 613 6094</p>\n\n<p><strong>Saturday</strong>&nbsp\;music:<br />\nStarting after car cruise\, the music will be from 6&nbsp\;pm to 10:00 pm <b>Smoke Wagon</b><br />\n<br />\n<strong>Sunday\, August 13th</strong></p>\n</div>\n\n<div class="column c2">\n<p><strong>Car\, Truck\, Motorcycle &amp\; Farm Tractor Show\, and DJ Music.</strong></p>\n\n<p>Registration starts 8:00 am\, Ends 1:00 pm<br />\nVoting Ends 2:00 pm<br />\nTrophies Awarded 3:00 pm<br />\nFees: Show Cars $10.00 each with Goodie Bags &amp\; Dash Plaques and Door Prizes<br />\n2 Trophies per Class &ndash\; 1st &amp\; 2nd Participant Judging<br />\nBest of Show\, Best GM\, Best Ford\, Best Mopar\,&nbsp\;Longest Distance\, Youngest Participant\, Oldest Participant\, Best Import\, Farm Tractor Class\, Club Participation Trophy\, Dean&rsquo\;s Choice Trophy (Must be 16 with a valid Drivers License)<br />\nFor more information call:<br />\nDean Wiese (715) 721-6881<br />\nBrenda Wiese &ndash\; (715) 613-6094</p>\n\n<p><strong>7:00 am &ndash\; 10:30 am &ndash\; Breakfast in the Park</strong></p>\n\n<p><strong>9:00 am &ndash\; Sunday Morning Church Service in the Park</strong><br />\n(by The Hope Center)<br />\n<strong>12:00 pm -- 4:00 pm -- Petting Zoo<br />\nAll day Music-- Rowdy Boys DJ</strong></p>\n\n<p>&nbsp\;</p>\n</div>\n</div>\n\n<p>Watch for changes!</p>\n\n<p><strong>Beer Stand\, Food and Refreshments\, Kids Games and Crafters\, Vendors All Weekend long!</strong></p>\n
LOCATION:Red Arrow Park Abbotsford\, WI
UID:e.2079.4259
SEQUENCE:3
DTSTAMP:20260424T020713Z
URL:https://business.abbycolbychamber.com/events/details/first-city-days-2023-4259
END:VEVENT

END:VCALENDAR
