BEGIN:VCALENDAR
VERSION:2.0
PRODID:-//ChamberMaster//Event Calendar 2.0//EN
METHOD:PUBLISH
X-PUBLISHED-TTL:P3D
REFRESH-INTERVAL:P3D
CALSCALE:GREGORIAN
BEGIN:VEVENT
DTSTART:20220822T170000Z
DTEND:20220822T180000Z
X-MICROSOFT-CDO-ALLDAYEVENT:FALSE
SUMMARY:First City Dentistry/Ribbon Cutting/Plaque Presentation
DESCRIPTION:Ribbon cutting/Plaque Presentation at First City Dentistry
X-ALT-DESC;FMTTYPE=text/html:Ribbon cutting/Plaque Presentation at First City Dentistry&nbsp\;
LOCATION:First City Dentistry 202 E Birch St Abbotsford\, WI 54405
UID:e.2079.4240
SEQUENCE:3
DTSTAMP:20260424T180553Z
URL:https://business.abbycolbychamber.com/events/details/first-city-dentistry-ribbon-cutting-plaque-presentation-4240
END:VEVENT

END:VCALENDAR
