BEGIN:VCALENDAR
VERSION:2.0
PRODID:-//ChamberMaster//Event Calendar 2.0//EN
METHOD:PUBLISH
X-PUBLISHED-TTL:P3D
REFRESH-INTERVAL:P3D
CALSCALE:GREGORIAN
BEGIN:VEVENT
DTSTART:20210831T180000Z
DTEND:20210831T230000Z
X-MICROSOFT-CDO-ALLDAYEVENT:FALSE
SUMMARY:Golf Outing-2021
DESCRIPTION:Chamber Golf Outing
X-ALT-DESC;FMTTYPE=text/html:Chamber Golf Outing
LOCATION:Meadow View Golf Course in Owen
UID:e.2079.3624
SEQUENCE:3
DTSTAMP:20260421T140517Z
URL:https://business.abbycolbychamber.com/events/details/golf-outing-2021-3624
END:VEVENT

END:VCALENDAR
