BEGIN:VCALENDAR
VERSION:2.0
PRODID:-//ChamberMaster//Event Calendar 2.0//EN
METHOD:PUBLISH
X-PUBLISHED-TTL:P3D
REFRESH-INTERVAL:P3D
CALSCALE:GREGORIAN
BEGIN:VEVENT
DTSTART:20230822T000000Z
DTEND:20230822T020000Z
X-MICROSOFT-CDO-ALLDAYEVENT:FALSE
SUMMARY:Just another Music Monday
DESCRIPTION:Summer Music Series\n\nJune 5         Alex & Dan ~ polka music\n\nJune 12       Terry Howard ~ gospel music\n\nJune 19       October Tree ~ adult contemporary (Jay Wildner)\n\nJune 26       Levi Ballenger ~ pop rock blues and more \n\nJuly 3           Tom Burt ~ wide variety of sing-a-long country rock swing\n\nJuly 10         Jackson Taylor ~ acoustic country \n\n(90's - present and originals)\n\nJuly 17         NO MUSIC\n\nJuly 24         Tom Burt ~ wide variety of sing-a-long country rock swing\n\nJuly 31         Aaron Lee Kaplan ~ blues music\n\nAug 7           Tom Burt ~ wide variety of sing-a-long country rock swing\n\nAug 14         Jackson Taylor ~ acoustic country                                                                                                       (90's - present and originals)\n\nAug 21         Terry Howard ~ gospel music
X-ALT-DESC;FMTTYPE=text/html:<span style="font-size:36px\;"><strong>Summer Music Series</strong></span><br />\n<span style="background:white\;"><span style="font-family:arial narrow\,sans-serif\;"><span style="font-size:24.0pt\;">June 5&nbsp\;&nbsp\;&nbsp\;&nbsp\;&nbsp\;&nbsp\;&nbsp\;&nbsp\; Alex &amp\; Dan ~ polka music</span></span></span><br />\n<span style="color:#050505\;"><span style="font-family:arial narrow\,sans-serif\;"><span style="font-size:24.0pt\;"><span style="background:white\;">June 12&nbsp\;&nbsp\;&nbsp\;&nbsp\;&nbsp\;&nbsp\; Terry Howard ~ gospel music</span><br />\n<span style="background:white\;">June 19 &nbsp\;&nbsp\;&nbsp\;&nbsp\;&nbsp\; October Tree ~ adult contemporary (Jay Wildner)</span><br />\n<span style="background:white\;">June 26&nbsp\;&nbsp\;&nbsp\;&nbsp\;&nbsp\;&nbsp\; Levi Ballenger ~ pop</span></span></span></span><span style="background:white\;"><span style="color:black\;"><span style="font-family:arial narrow\,sans-serif\;"><span style="font-size:24.0pt\;">&bull\;rock&bull\;blues&bull\;and more </span></span></span></span><br />\n<span style="color:#050505\;"><span style="font-family:arial narrow\,sans-serif\;"><span style="font-size:24.0pt\;"><span style="background:white\;">July 3 &nbsp\;&nbsp\;&nbsp\;&nbsp\;&nbsp\;&nbsp\;&nbsp\;&nbsp\;&nbsp\; Tom Burt ~ wide variety of sing-a-long country&bull\;rock&bull\;swing</span><br />\n<span style="background:white\;">July 10 &nbsp\;&nbsp\;&nbsp\;&nbsp\;&nbsp\;&nbsp\;&nbsp\; Jackson Taylor ~ acoustic country </span></span></span></span><br />\n<span style="background:white\;"><span style="color:#050505\;"><span style="font-family:arial narrow\,sans-serif\;"><span style="font-size:24.0pt\;">(90&#39\;s - present and originals)</span></span></span></span><br />\n<span style="background:white\;"><span style="color:black\;"><span style="font-family:arial narrow\,sans-serif\;"><span style="font-size:24.0pt\;">July 17 &nbsp\;&nbsp\;&nbsp\;&nbsp\;&nbsp\;&nbsp\;&nbsp\; NO MUSIC</span></span></span></span><br />\n<span style="font-family:arial narrow\,sans-serif\;"><span style="font-size:24.0pt\;"><span style="background:white\;"><span style="color:black\;">July 24 &nbsp\;&nbsp\;&nbsp\;&nbsp\;&nbsp\;&nbsp\;&nbsp\; Tom Burt ~ wide variety of sing-a-long country&bull\;rock&bull\;swing</span></span><br />\n<span style="background:white\;"><span style="color:black\;">July 31 &nbsp\;&nbsp\;&nbsp\;&nbsp\;&nbsp\;&nbsp\;&nbsp\; Aaron Lee Kaplan ~ blues music</span></span><br />\n<span style="background:white\;"><span style="color:black\;">Aug 7 &nbsp\;&nbsp\;&nbsp\;&nbsp\;&nbsp\;&nbsp\;&nbsp\;&nbsp\;&nbsp\; Tom Burt ~ wide variety of sing-a-long country&bull\;rock&bull\;swing</span></span><br />\n<span style="background:white\;"><span style="color:black\;">Aug 14 &nbsp\;&nbsp\;&nbsp\;&nbsp\;&nbsp\;&nbsp\;&nbsp\; Jackson Taylor ~ acoustic country &nbsp\;&nbsp\;&nbsp\;&nbsp\;&nbsp\;&nbsp\;&nbsp\;&nbsp\;&nbsp\;&nbsp\;&nbsp\;&nbsp\;&nbsp\;&nbsp\;&nbsp\;&nbsp\;&nbsp\;&nbsp\;&nbsp\;&nbsp\;&nbsp\;&nbsp\;&nbsp\;&nbsp\;&nbsp\;&nbsp\;&nbsp\;&nbsp\;&nbsp\;&nbsp\;&nbsp\;&nbsp\;&nbsp\;&nbsp\;&nbsp\;&nbsp\;&nbsp\;&nbsp\;&nbsp\;&nbsp\;&nbsp\;&nbsp\;&nbsp\;&nbsp\;&nbsp\;&nbsp\;&nbsp\;&nbsp\;&nbsp\;&nbsp\;&nbsp\;&nbsp\;&nbsp\;&nbsp\;&nbsp\;&nbsp\;&nbsp\;&nbsp\;&nbsp\;&nbsp\;&nbsp\;&nbsp\;&nbsp\;&nbsp\;&nbsp\;&nbsp\;&nbsp\;&nbsp\;&nbsp\;&nbsp\;&nbsp\;&nbsp\;&nbsp\;&nbsp\; &nbsp\;&nbsp\;&nbsp\;&nbsp\;&nbsp\;&nbsp\;&nbsp\;&nbsp\;&nbsp\;&nbsp\;&nbsp\;&nbsp\;&nbsp\;&nbsp\;&nbsp\;&nbsp\;&nbsp\;&nbsp\;&nbsp\;&nbsp\;&nbsp\;&nbsp\;&nbsp\;&nbsp\;&nbsp\;&nbsp\; (90&#39\;s - present and originals)</span></span><br />\n<span style="background:white\;"><span style="color:black\;">Aug 21 &nbsp\;&nbsp\;&nbsp\;&nbsp\;&nbsp\;&nbsp\;&nbsp\; Terry Howard ~ gospel music</span></span></span></span><br />\n&nbsp\;
LOCATION:1st Street Gazebo\, Colby Bring your own chair\, drinks\, and snack.
UID:e.2079.4304
SEQUENCE:3
DTSTAMP:20260424T020713Z
URL:https://business.abbycolbychamber.com/events/details/just-another-music-monday-08-21-2023-4304
END:VEVENT

END:VCALENDAR
