BEGIN:VCALENDAR
VERSION:2.0
PRODID:-//ChamberMaster//Event Calendar 2.0//EN
METHOD:PUBLISH
X-PUBLISHED-TTL:P3D
REFRESH-INTERVAL:P3D
CALSCALE:GREGORIAN
BEGIN:VEVENT
DTSTART:20221203T170000Z
DTEND:20221203T190000Z
X-MICROSOFT-CDO-ALLDAYEVENT:FALSE
SUMMARY:Lunch with Santa
DESCRIPTION:Lunch with Santa-free lunch with Canned goods or Cash donation for the food pantry.
X-ALT-DESC;FMTTYPE=text/html:Lunch with Santa-free lunch with Canned goods or Cash donation for the food pantry.
LOCATION:Colby High School Cafeteria
UID:e.2079.4254
SEQUENCE:3
DTSTAMP:20260424T122642Z
URL:https://business.abbycolbychamber.com/events/details/lunch-with-santa-4254
END:VEVENT

END:VCALENDAR
