BEGIN:VCALENDAR
VERSION:2.0
PRODID:-//ChamberMaster//Event Calendar 2.0//EN
METHOD:PUBLISH
X-PUBLISHED-TTL:P3D
REFRESH-INTERVAL:P3D
CALSCALE:GREGORIAN
BEGIN:VEVENT
DTSTART:20240527T150000Z
DTEND:20240527T160000Z
X-MICROSOFT-CDO-ALLDAYEVENT:FALSE
SUMMARY:Memorial Day Service
DESCRIPTION:Service honoring the men and women who sacrificed their live for our country.
X-ALT-DESC;FMTTYPE=text/html:Service honoring the men and women who sacrificed their live for our country.
LOCATION:Abbotsford Cemetery Highway 13 North Abbotsford\, Wisconsin
UID:e.2079.4330
SEQUENCE:3
DTSTAMP:20260424T053516Z
URL:https://business.abbycolbychamber.com/events/details/memorial-day-service-4330
END:VEVENT

END:VCALENDAR
