BEGIN:VCALENDAR
VERSION:2.0
PRODID:-//ChamberMaster//Event Calendar 2.0//EN
METHOD:PUBLISH
X-PUBLISHED-TTL:P3D
REFRESH-INTERVAL:P3D
CALSCALE:GREGORIAN
BEGIN:VEVENT
DTSTART:20220816T170000Z
DTEND:20220816T180000Z
X-MICROSOFT-CDO-ALLDAYEVENT:FALSE
SUMMARY:Monthly Chamber Meeting
DESCRIPTION:Chamber Meeting
X-ALT-DESC;FMTTYPE=text/html:Chamber Meeting
LOCATION:Abbotsford High School\, Abbotsford\, WI 54405
UID:e.2079.4239
SEQUENCE:3
DTSTAMP:20260424T180539Z
URL:https://business.abbycolbychamber.com/events/details/monthly-chamber-meeting-4239
END:VEVENT

END:VCALENDAR
