BEGIN:VCALENDAR
VERSION:2.0
PRODID:-//ChamberMaster//Event Calendar 2.0//EN
METHOD:PUBLISH
X-PUBLISHED-TTL:P3D
REFRESH-INTERVAL:P3D
CALSCALE:GREGORIAN
BEGIN:VEVENT
DTSTART:20230220T233000Z
DTEND:20230221T000000Z
X-MICROSOFT-CDO-ALLDAYEVENT:FALSE
SUMMARY:Quarterly Room Tax Committee Meeting
DESCRIPTION:Room Tax Committee Meeting
X-ALT-DESC;FMTTYPE=text/html:Room Tax Committee Meeting
LOCATION:Abbotsford City Hall
UID:e.2079.4263
SEQUENCE:3
DTSTAMP:20260424T092803Z
URL:https://business.abbycolbychamber.com/events/details/quarterly-room-tax-committee-meeting-4263
END:VEVENT

END:VCALENDAR
