BEGIN:VCALENDAR
VERSION:2.0
PRODID:-//ChamberMaster//Event Calendar 2.0//EN
METHOD:PUBLISH
X-PUBLISHED-TTL:P3D
REFRESH-INTERVAL:P3D
CALSCALE:GREGORIAN
BEGIN:VEVENT
DTSTART;VALUE=DATE:20221126
DTEND;VALUE=DATE:20221127
TRANSP:TRANSPARENT
X-MICROSOFT-CDO-ALLDAYEVENT:TRUE
SUMMARY:Small Business Saturday Event
DESCRIPTION:Shop small business on Saturday for a chance to win a $100 gift certificate and individual business gift certificates.
X-ALT-DESC;FMTTYPE=text/html:Shop small business on Saturday for a chance to win a $100 gift certificate and individual business gift certificates.
LOCATION:Participating business: Abby Cafe\, Abby County Market\, Abby Ford\, Abbyland Restaurant\, Abbyland Travel Center\, BBD Sports Shop\, Colby Chrysler\, El Norteno\, Fourmens Farm Home\, Frickin A Bar & Grill\, Hardee's\, Healthview Eye Care\, Hetchs\, Nasonville Dairy\, Pizza Hut\, ProVision Partners Colby Cenex\, Ray's Market\, Salon Twenty2\, Second Chance Gift & Thrift\, Smith Bros Meats\, TP Printing
UID:e.2079.4242
SEQUENCE:3
DTSTAMP:20260424T152602Z
URL:https://business.abbycolbychamber.com/events/details/small-business-saturday-event-4242
END:VEVENT

END:VCALENDAR
