BEGIN:VCALENDAR
VERSION:2.0
PRODID:-//ChamberMaster//Event Calendar 2.0//EN
METHOD:PUBLISH
X-PUBLISHED-TTL:P3D
REFRESH-INTERVAL:P3D
CALSCALE:GREGORIAN
BEGIN:VEVENT
DTSTART:20220522T123000Z
DTEND:20220522T150000Z
X-MICROSOFT-CDO-ALLDAYEVENT:FALSE
SUMMARY:Songbirds-Warblers\, Thrushes\, and more
DESCRIPTION:Join members of the Chequamegon Bird Club to celebrate World Migratory Bird Day- Songbirds-Warblers\, Thrushes\, and more
X-ALT-DESC;FMTTYPE=text/html:Join members of the Chequamegon Bird Club to celebrate World Migratory Bird Day- Songbirds-Warblers\, Thrushes\, and more
LOCATION:At Chequamegon National Forest
UID:e.2079.4236
SEQUENCE:3
DTSTAMP:20260424T231153Z
URL:https://business.abbycolbychamber.com/events/details/songbirds-warblers-thrushes-and-more-4236
END:VEVENT

END:VCALENDAR
