BEGIN:VCALENDAR
VERSION:2.0
PRODID:-//ChamberMaster//Event Calendar 2.0//EN
METHOD:PUBLISH
X-PUBLISHED-TTL:P3D
REFRESH-INTERVAL:P3D
CALSCALE:GREGORIAN
BEGIN:VEVENT
DTSTART:20230429T140000Z
DTEND:20230429T220000Z
X-MICROSOFT-CDO-ALLDAYEVENT:FALSE
SUMMARY:“Spring into the Arts” Tour - 2023
DESCRIPTION:Your one special weekend of unique art shopping!!! Our 13th annual Clark County "Spring into the Arts" Tour has been extended this year adding Friday\, April 28\, 2023\, form 2 p.m. - 6 p.m.\, Saturday\, April 29\, 2023\, from 9 a.m. - 5 p.m. and Sunday\, April 30\, 2023\, from 10 a.m. - 3 p.m. hosted by Clark County Economic Development Corporation & Tourism Bureau. Enjoy a weekend driving along the scenic roads of Clark County meeting artists in their studios and gathering spots to view and purchase their creations. The tour features the finest artist.\, guest artists and their designs - painters\, potters\, woodworkers\, metal workers\, jewelers\, weavers\, glass workers\, mixed media and much more. There will be music\, shopping\, and food throughout the tour for your weekend pleasure. For a brochure call: 715 225 9100\, email info@clarkcountyedc.org or check our website www.clarkcountywi.org\n\n\n\nOne of our many cluster points is The Christine Center with 7 accomplished artists joining them this year using various mediums and styles\, with subjects ranging from the whimsical to the sublime. Live drumming\, singing bowls\, painting\, and SoulCollage experiences will be available at various times during the tour. Come experience their beautiful bookstore and meditation spaces\, and sample delicious\, intriguing tea and treats from the soul-restoring recipes of St. Hildegard of Bingen\, a 12th century visionary artist.\n\n \n\nNestled in the rolling hills of North Mound is where you will find the historic barn of Patrick J's Imagination. Patrick offers one-of-a-kind wood furniture and wood art. Something you won't want to miss. Owen Old School\, located in "Historic" Downtown Owen will be hosting artists featuring outdoor metal art\, handwoven rugs\, table runners\, purses\, hand-built and wheel thrown pottery\, floral and landscape designs\, and notecards.\n\n \n\nNew host sites/artists in the lovely Willard area this year are Ron Volovsek who creates handcrafted wooden d cor\, outdoor planters\, birdhouses\, trees\, indoor home d cor\, shelves\, frames\, signs\, fish sculptures & fishing baits. Also\, Jason Lamovec who makes one of a kind beautiful rustic furniture.\n\n \n\nJoining us this year are 13 host sites with many intriguing country art studios'\, plus many sponsors offering fantastic food\, lodging\, and fun shopping opportunities. Spend your weekend relaxing and just enjoying yourself!
X-ALT-DESC;FMTTYPE=text/html:<span style="font-family:times new roman\,serif\;">Your one special weekend of unique art shopping!!! Our 13th annual Clark County &quot\;Spring into the Arts&quot\; Tour has been extended this year adding Friday\, April 28\, 2023\, form 2 p.m. - 6 p.m.\, Saturday\, April 29\, 2023\, from 9 a.m. - 5 p.m. and Sunday\, April 30\, 2023\, from 10 a.m. - 3 p.m. hosted by Clark County Economic Development Corporation &amp\; Tourism Bureau. Enjoy a weekend driving along the scenic roads of Clark County meeting artists in their studios and gathering spots to view and purchase their creations. The tour features the finest artist.\, guest artists and their designs - painters\, potters\, woodworkers\, metal workers\, jewelers\, weavers\, glass workers\, mixed media and much more. There will be music\, shopping\, and food throughout the tour for your weekend pleasure. For a brochure call: 715 225 9100\, email </span><a href="mailto:info@clarkcountyedc.org"><span style="font-family: &quot\;times new roman&quot\;\, serif\;">info@clarkcountyedc.org</span></a><span style="font-family: &quot\;times new roman&quot\;\, serif\;">&nbsp\;or check our website&nbsp\;</span><a href="http://www.clarkcountywi.org" target="_blank"><span style="font-family: &quot\;times new roman&quot\;\, serif\;">www.clarkcountywi.org</span></a><br />\n<br />\n<span style="font-family:times new roman\,serif\;">One of our many cluster points is The Christine Center with 7 accomplished artists joining them this year using various mediums and styles\, with subjects ranging from the whimsical to the sublime. Live drumming\, singing bowls\, painting\, and SoulCollage experiences will be available at various times during the tour. Come experience their beautiful bookstore and meditation spaces\, and sample delicious\, intriguing tea and treats from the soul-restoring recipes of St. Hildegard of Bingen\, a 12th century visionary artist.</span><br />\n&nbsp\;<br />\n<span style="font-family:times new roman\,serif\;">Nestled in the rolling hills of North Mound is where you will find the historic barn of Patrick J&rsquo\;s Imagination. Patrick offers one-of-a-kind wood furniture and wood art. Something you won&rsquo\;t want to miss. Owen Old School\, located in &ldquo\;Historic&rdquo\; Downtown Owen will be hosting artists featuring outdoor metal art\, handwoven rugs\, table runners\, purses\, hand-built and wheel thrown pottery\, floral and landscape designs\, and notecards.</span><br />\n&nbsp\;<br />\n<span style="font-family:times new roman\,serif\;">New host sites/artists in the lovely Willard area this year are Ron Volovsek who creates handcrafted wooden d&eacute\;cor\, outdoor planters\, birdhouses\, trees\, indoor home d&eacute\;cor\, shelves\, frames\, signs\, fish sculptures &amp\; fishing baits. Also\, Jason Lamovec who makes one of a kind beautiful rustic furniture.</span><br />\n&nbsp\;<br />\n<span style="font-family:times new roman\,serif\;">Joining us this year are 13 host sites with many intriguing country art studios&rsquo\;\, plus many sponsors offering fantastic food\, lodging\, and fun shopping opportunities. Spend your weekend relaxing and just enjoying yourself!</span><br />\n&nbsp\;
LOCATION:Clark County\, WI
UID:e.2079.4266
SEQUENCE:3
DTSTAMP:20260424T080948Z
URL:https://business.abbycolbychamber.com/events/details/spring-into-the-arts-tour-2023-4266
END:VEVENT

END:VCALENDAR
