BEGIN:VCALENDAR
VERSION:2.0
PRODID:-//ChamberMaster//Event Calendar 2.0//EN
METHOD:PUBLISH
X-PUBLISHED-TTL:P3D
REFRESH-INTERVAL:P3D
CALSCALE:GREGORIAN
BEGIN:VEVENT
DTSTART:20221124T180000Z
DTEND:20221125T055500Z
X-MICROSOFT-CDO-ALLDAYEVENT:FALSE
SUMMARY:Thanksgiving Day Free Dinner
DESCRIPTION:IT'S BACK! Do not spend Thanksgiving Day alone this year. Join us for Dinner!\n\nVolunteers are needed to bake pies\, serve\, clean and deliver. (Please call numbers below.) \n\nFood provided by Abby/Colby Crossings Chamber of Commerce. Main meal cooked by Smith Bros. Catering and volunteers from the Colby community.\n\nReservations accepted through Friday\, November 18\n\nCall Colby City Hall\, 715-223-4435\, weekdays 9-12 and 1-4\, other times call 715-223-2284 and leave message.
X-ALT-DESC;FMTTYPE=text/html:IT&#39\;S BACK! Do not spend Thanksgiving Day alone this year. Join us for Dinner!<br />\nVolunteers are needed to bake pies\, serve\, clean and deliver. (Please call numbers below.)&nbsp\;<br />\nFood provided by Abby/Colby Crossings Chamber of Commerce. Main meal cooked by Smith Bros. Catering and volunteers from the Colby community.<br />\nReservations accepted through Friday\, November 18<br />\nCall Colby City Hall\, 715-223-4435\, weekdays 9-12 and 1-4\, other times call 715-223-2284 and leave message.
LOCATION:Colby Lion Shelter 103 W Adam Street Colby\, Wi 54421
UID:e.2079.4253
SEQUENCE:3
DTSTAMP:20260424T152507Z
URL:https://business.abbycolbychamber.com/events/details/thanksgiving-day-free-dinner-4253
END:VEVENT

END:VCALENDAR
