BEGIN:VCALENDAR
VERSION:2.0
PRODID:-//ChamberMaster//Event Calendar 2.0//EN
METHOD:PUBLISH
X-PUBLISHED-TTL:P3D
REFRESH-INTERVAL:P3D
CALSCALE:GREGORIAN
BEGIN:VEVENT
DTSTART:20220501T190000Z
DTEND:20220501T220000Z
X-MICROSOFT-CDO-ALLDAYEVENT:FALSE
SUMMARY:Waterfowl & Songbirds
DESCRIPTION:Join members of the Chequamegon Bird Club to celebrate World Migratory Bird Day-Water fowl & Songbirds
X-ALT-DESC;FMTTYPE=text/html:Join members of the Chequamegon Bird Club to celebrate World Migratory Bird Day-Water fowl &amp\; Songbirds
LOCATION:At Miller Dam area
UID:e.2079.4235
SEQUENCE:3
DTSTAMP:20260424T231108Z
URL:https://business.abbycolbychamber.com/events/details/waterfowl-songbirds-4235
END:VEVENT

END:VCALENDAR
